BEGIN:VCALENDAR
VERSION:2.0
PRODID:-//www.charltonpark.org//NONSGML kigkonsult.se iCalcreator 2.30.10//
CALSCALE:GREGORIAN
METHOD:PUBLISH
UID:abd3ac8e-b72a-4216-bc6d-d93423c691bd
X-WR-CALDESC:
X-WR-RELCALID:48b20e9c80960b94a84dfed61fa2c653
X-WR-TIMEZONE:America/New_York
BEGIN:VTIMEZONE
TZID:America/New_York
BEGIN:STANDARD
TZNAME:EST
DTSTART:20191103T020000
TZOFFSETFROM:-0400
TZOFFSETTO:-0500
RDATE:20201101T020000
RDATE:20211107T020000
END:STANDARD
BEGIN:DAYLIGHT
TZNAME:EDT
DTSTART:20200308T020000
TZOFFSETFROM:-0500
TZOFFSETTO:-0400
RDATE:20210314T020000
END:DAYLIGHT
END:VTIMEZONE
BEGIN:VEVENT
UID:ee22f4c7-2398-4128-bb09-8214989180e4
DTSTAMP:20260421T101355Z
DESCRIPTION:
DTSTART;TZID=America/New_York:20200518T000000
DTEND;TZID=America/New_York:20200518T235900
LOCATION:
SUMMARY:ep1073
END:VEVENT
END:VCALENDAR
