BEGIN:VCALENDAR
VERSION:2.0
PRODID:-//www.charltonpark.org//NONSGML kigkonsult.se iCalcreator 2.30.10//
CALSCALE:GREGORIAN
METHOD:PUBLISH
UID:b9502349-76fc-4033-ba7d-19f121e4a95b
X-WR-CALDESC:
X-WR-RELCALID:bc6724d3f0c298fc1fa78d2d27f4becd
X-WR-TIMEZONE:America/New_York
BEGIN:VTIMEZONE
TZID:America/New_York
BEGIN:STANDARD
TZNAME:EST
DTSTART:20201101T020000
TZOFFSETFROM:-0400
TZOFFSETTO:-0500
RDATE:20211107T020000
END:STANDARD
BEGIN:DAYLIGHT
TZNAME:EDT
DTSTART:20200308T020000
TZOFFSETFROM:-0500
TZOFFSETTO:-0400
RDATE:20210314T020000
RDATE:20220313T020000
END:DAYLIGHT
END:VTIMEZONE
BEGIN:VEVENT
UID:e7867013-6f36-47b5-8b55-59738812c2d4
DTSTAMP:20260425T205156Z
DESCRIPTION:
DTSTART;TZID=America/New_York:20210217T110000
DTEND;TZID=America/New_York:20210218T120000
LOCATION:
SUMMARY:ep1099
END:VEVENT
END:VCALENDAR
