BEGIN:VCALENDAR
VERSION:2.0
PRODID:-//www.charltonpark.org//NONSGML kigkonsult.se iCalcreator 2.30.10//
CALSCALE:GREGORIAN
METHOD:PUBLISH
UID:849c1a80-a37e-4699-83f2-44f15dccab7e
X-WR-CALDESC:
X-WR-RELCALID:b077683e5e7e557f2c73d467fc45ab06
X-WR-TIMEZONE:America/New_York
BEGIN:VTIMEZONE
TZID:America/New_York
BEGIN:STANDARD
TZNAME:EST
DTSTART:20201101T020000
TZOFFSETFROM:-0400
TZOFFSETTO:-0500
RDATE:20211107T020000
END:STANDARD
BEGIN:DAYLIGHT
TZNAME:EDT
DTSTART:20210314T020000
TZOFFSETFROM:-0500
TZOFFSETTO:-0400
RDATE:20220313T020000
END:DAYLIGHT
END:VTIMEZONE
BEGIN:VEVENT
UID:5694a093-40c9-4529-b8f5-447ca30eabe0
DTSTAMP:20260425T190323Z
DESCRIPTION:
DTSTART;TZID=America/New_York:20210316T000000
DTEND;TZID=America/New_York:20210317T235900
LOCATION:
SUMMARY:ep1100
END:VEVENT
END:VCALENDAR
