BEGIN:VCALENDAR
VERSION:2.0
PRODID:-//www.charltonpark.org//NONSGML kigkonsult.se iCalcreator 2.30.10//
CALSCALE:GREGORIAN
METHOD:PUBLISH
UID:59caa678-47ee-4772-ab80-f496b8900405
X-WR-CALDESC:
X-WR-RELCALID:ff87d6295cfcac43ec4e82d06123e303
X-WR-TIMEZONE:America/New_York
BEGIN:VTIMEZONE
TZID:America/New_York
BEGIN:STANDARD
TZNAME:EST
DTSTART:20201101T020000
TZOFFSETFROM:-0400
TZOFFSETTO:-0500
RDATE:20211107T020000
END:STANDARD
BEGIN:DAYLIGHT
TZNAME:EDT
DTSTART:20210314T020000
TZOFFSETFROM:-0500
TZOFFSETTO:-0400
RDATE:20220313T020000
END:DAYLIGHT
END:VTIMEZONE
BEGIN:VEVENT
UID:ab314514-69af-44c7-b64c-7afbae5b4a84
DTSTAMP:20260425T184913Z
DESCRIPTION:
DTSTART;TZID=America/New_York:20210319T000000
DTEND;TZID=America/New_York:20210319T235900
LOCATION:
SUMMARY:ep1103
END:VEVENT
END:VCALENDAR
