BEGIN:VCALENDAR
VERSION:2.0
PRODID:-//www.charltonpark.org//NONSGML kigkonsult.se iCalcreator 2.30.10//
CALSCALE:GREGORIAN
METHOD:PUBLISH
UID:fe0148c8-9907-41f3-b293-912ae2951d22
X-WR-CALDESC:
X-WR-RELCALID:e57630808ddde29e69c75a9266e6bc24
X-WR-TIMEZONE:America/New_York
BEGIN:VTIMEZONE
TZID:America/New_York
BEGIN:STANDARD
TZNAME:EST
DTSTART:20201101T020000
TZOFFSETFROM:-0400
TZOFFSETTO:-0500
RDATE:20211107T020000
END:STANDARD
BEGIN:DAYLIGHT
TZNAME:EDT
DTSTART:20210314T020000
TZOFFSETFROM:-0500
TZOFFSETTO:-0400
RDATE:20220313T020000
END:DAYLIGHT
END:VTIMEZONE
BEGIN:VEVENT
UID:84c9b39d-47c3-440b-a015-2172241dd490
DTSTAMP:20260425T184615Z
DESCRIPTION:
DTSTART;TZID=America/New_York:20210325T000000
DTEND;TZID=America/New_York:20210326T235900
LOCATION:
SUMMARY:ep1098
END:VEVENT
END:VCALENDAR
