BEGIN:VCALENDAR
VERSION:2.0
PRODID:-//www.charltonpark.org//NONSGML kigkonsult.se iCalcreator 2.30.10//
CALSCALE:GREGORIAN
METHOD:PUBLISH
UID:e7d942ca-bb30-4c86-b473-b9c65b60615e
X-WR-CALDESC:
X-WR-RELCALID:6789145351a0a7cbd28c9faa744ee611
X-WR-TIMEZONE:America/New_York
BEGIN:VTIMEZONE
TZID:America/New_York
BEGIN:STANDARD
TZNAME:EST
DTSTART:20201101T020000
TZOFFSETFROM:-0400
TZOFFSETTO:-0500
RDATE:20211107T020000
END:STANDARD
BEGIN:DAYLIGHT
TZNAME:EDT
DTSTART:20210314T020000
TZOFFSETFROM:-0500
TZOFFSETTO:-0400
RDATE:20220313T020000
END:DAYLIGHT
END:VTIMEZONE
BEGIN:VEVENT
UID:964fc51d-5e2b-4807-ba9d-482831587dda
DTSTAMP:20260425T172024Z
DESCRIPTION:
DTSTART;TZID=America/New_York:20210419T000000
DTEND;TZID=America/New_York:20210420T235900
LOCATION:
SUMMARY:ep1113
END:VEVENT
END:VCALENDAR
