BEGIN:VCALENDAR
VERSION:2.0
PRODID:-//www.charltonpark.org//NONSGML kigkonsult.se iCalcreator 2.30.10//
CALSCALE:GREGORIAN
METHOD:PUBLISH
UID:85c27343-32e8-4f96-b5b5-bfd4a60c336a
X-WR-CALDESC:
X-WR-RELCALID:be4dd4162cf02a54168d526bc278378d
X-WR-TIMEZONE:America/New_York
BEGIN:VTIMEZONE
TZID:America/New_York
BEGIN:STANDARD
TZNAME:EST
DTSTART:20201101T020000
TZOFFSETFROM:-0400
TZOFFSETTO:-0500
RDATE:20211107T020000
END:STANDARD
BEGIN:DAYLIGHT
TZNAME:EDT
DTSTART:20210314T020000
TZOFFSETFROM:-0500
TZOFFSETTO:-0400
RDATE:20220313T020000
END:DAYLIGHT
END:VTIMEZONE
BEGIN:VEVENT
UID:424ce28c-8fec-4f7a-aff2-4ea99346f325
DTSTAMP:20260425T172612Z
DESCRIPTION:
DTSTART;TZID=America/New_York:20210423T000000
DTEND;TZID=America/New_York:20210423T235900
LOCATION:
SUMMARY:ep1110
END:VEVENT
END:VCALENDAR
