BEGIN:VCALENDAR
VERSION:2.0
PRODID:-//www.charltonpark.org//NONSGML kigkonsult.se iCalcreator 2.30.10//
CALSCALE:GREGORIAN
METHOD:PUBLISH
UID:afee111e-c996-4a6c-ae4d-45ad4c40237d
X-WR-CALDESC:
X-WR-RELCALID:b0c8d15dcdde51b0bcfb2bd7aaf7a183
X-WR-TIMEZONE:America/New_York
BEGIN:VTIMEZONE
TZID:America/New_York
BEGIN:STANDARD
TZNAME:EST
DTSTART:20201101T020000
TZOFFSETFROM:-0400
TZOFFSETTO:-0500
RDATE:20211107T020000
END:STANDARD
BEGIN:DAYLIGHT
TZNAME:EDT
DTSTART:20210314T020000
TZOFFSETFROM:-0500
TZOFFSETTO:-0400
RDATE:20220313T020000
END:DAYLIGHT
END:VTIMEZONE
BEGIN:VEVENT
UID:48bdec7f-ae02-461a-b97b-fbd62e611c93
DTSTAMP:20260425T172113Z
DESCRIPTION:
DTSTART;TZID=America/New_York:20210428T000000
DTEND;TZID=America/New_York:20210429T235900
LOCATION:
SUMMARY:ep1106
END:VEVENT
END:VCALENDAR
