BEGIN:VCALENDAR
VERSION:2.0
PRODID:-//www.charltonpark.org//NONSGML kigkonsult.se iCalcreator 2.30.10//
CALSCALE:GREGORIAN
METHOD:PUBLISH
UID:4199ecd7-8c13-40b3-8ed1-7ae616fbb1b5
X-WR-CALDESC:
X-WR-RELCALID:692e0f6659912b38ba97dfe4d88bd83b
X-WR-TIMEZONE:America/New_York
BEGIN:VTIMEZONE
TZID:America/New_York
BEGIN:STANDARD
TZNAME:EST
DTSTART:20201101T020000
TZOFFSETFROM:-0400
TZOFFSETTO:-0500
RDATE:20211107T020000
END:STANDARD
BEGIN:DAYLIGHT
TZNAME:EDT
DTSTART:20210314T020000
TZOFFSETFROM:-0500
TZOFFSETTO:-0400
RDATE:20220313T020000
END:DAYLIGHT
END:VTIMEZONE
BEGIN:VEVENT
UID:7c57396b-81bf-474c-841c-518337a8ca10
DTSTAMP:20260425T154051Z
DESCRIPTION:
DTSTART;TZID=America/New_York:20210503T000000
DTEND;TZID=America/New_York:20210507T235900
LOCATION:
SUMMARY:ep1096
END:VEVENT
END:VCALENDAR
