BEGIN:VCALENDAR
VERSION:2.0
PRODID:-//www.charltonpark.org//NONSGML kigkonsult.se iCalcreator 2.30.10//
CALSCALE:GREGORIAN
METHOD:PUBLISH
UID:ffd8f651-baae-4daa-bf77-df147b663b08
X-WR-CALDESC:
X-WR-RELCALID:6083ff43df9ce1c8eae47b95efe5bf31
X-WR-TIMEZONE:America/New_York
BEGIN:VTIMEZONE
TZID:America/New_York
BEGIN:STANDARD
TZNAME:EST
DTSTART:20201101T020000
TZOFFSETFROM:-0400
TZOFFSETTO:-0500
RDATE:20211107T020000
RDATE:20221106T020000
END:STANDARD
BEGIN:DAYLIGHT
TZNAME:EDT
DTSTART:20210314T020000
TZOFFSETFROM:-0500
TZOFFSETTO:-0400
RDATE:20220313T020000
END:DAYLIGHT
END:VTIMEZONE
BEGIN:VEVENT
UID:a3bc0209-a8fa-4739-aebe-88bdab1a6379
DTSTAMP:20260425T155820Z
DESCRIPTION:
DTSTART;TZID=America/New_York:20210510T000000
DTEND;TZID=America/New_York:20210511T235900
LOCATION:
SUMMARY:ep1104
END:VEVENT
END:VCALENDAR
