BEGIN:VCALENDAR
VERSION:2.0
PRODID:-//www.charltonpark.org//NONSGML kigkonsult.se iCalcreator 2.30.10//
CALSCALE:GREGORIAN
METHOD:PUBLISH
UID:32aa0376-48dc-489a-967d-10f261b24aa2
X-WR-CALDESC:
X-WR-RELCALID:948a17f021a677f5346ad98fa49236d2
X-WR-TIMEZONE:America/New_York
BEGIN:VTIMEZONE
TZID:America/New_York
BEGIN:STANDARD
TZNAME:EST
DTSTART:20201101T020000
TZOFFSETFROM:-0400
TZOFFSETTO:-0500
RDATE:20211107T020000
RDATE:20221106T020000
END:STANDARD
BEGIN:DAYLIGHT
TZNAME:EDT
DTSTART:20210314T020000
TZOFFSETFROM:-0500
TZOFFSETTO:-0400
RDATE:20220313T020000
END:DAYLIGHT
END:VTIMEZONE
BEGIN:VEVENT
UID:cacf3cb4-6079-44fb-80be-a836ced5a050
DTSTAMP:20260425T160323Z
DESCRIPTION:
DTSTART;TZID=America/New_York:20210512T000000
DTEND;TZID=America/New_York:20210513T235900
LOCATION:
SUMMARY:ep1108
END:VEVENT
END:VCALENDAR
