BEGIN:VCALENDAR
VERSION:2.0
PRODID:-//www.charltonpark.org//NONSGML kigkonsult.se iCalcreator 2.30.10//
CALSCALE:GREGORIAN
METHOD:PUBLISH
UID:ed8c18df-0052-4a97-8c29-09ecb90758d4
X-WR-CALDESC:
X-WR-RELCALID:2fd41ab7ee2223165a0b6ff0e6e227d3
X-WR-TIMEZONE:America/New_York
BEGIN:VTIMEZONE
TZID:America/New_York
BEGIN:STANDARD
TZNAME:EST
DTSTART:20201101T020000
TZOFFSETFROM:-0400
TZOFFSETTO:-0500
RDATE:20211107T020000
RDATE:20221106T020000
END:STANDARD
BEGIN:DAYLIGHT
TZNAME:EDT
DTSTART:20210314T020000
TZOFFSETFROM:-0500
TZOFFSETTO:-0400
RDATE:20220313T020000
END:DAYLIGHT
END:VTIMEZONE
BEGIN:VEVENT
UID:ee430770-8432-4ff2-b499-f5cbcab97e27
DTSTAMP:20260425T155657Z
DESCRIPTION:
DTSTART;TZID=America/New_York:20210519T000000
DTEND;TZID=America/New_York:20210519T235900
LOCATION:
SUMMARY:ep1113
END:VEVENT
END:VCALENDAR
