BEGIN:VCALENDAR
VERSION:2.0
PRODID:-//www.charltonpark.org//NONSGML kigkonsult.se iCalcreator 2.30.10//
CALSCALE:GREGORIAN
METHOD:PUBLISH
UID:da3e6dfa-1132-4d5e-90f5-e31047f72706
X-WR-CALDESC:
X-WR-RELCALID:5627b4914467ab8a147ad85a8504c18b
X-WR-TIMEZONE:America/New_York
BEGIN:VTIMEZONE
TZID:America/New_York
BEGIN:STANDARD
TZNAME:EST
DTSTART:20201101T020000
TZOFFSETFROM:-0400
TZOFFSETTO:-0500
RDATE:20211107T020000
RDATE:20221106T020000
END:STANDARD
BEGIN:DAYLIGHT
TZNAME:EDT
DTSTART:20210314T020000
TZOFFSETFROM:-0500
TZOFFSETTO:-0400
RDATE:20220313T020000
END:DAYLIGHT
END:VTIMEZONE
BEGIN:VEVENT
UID:b0df9e0b-ae32-41b2-91f9-f0a29ac2f854
DTSTAMP:20260425T154235Z
DESCRIPTION:
DTSTART;TZID=America/New_York:20210520T000000
DTEND;TZID=America/New_York:20210521T235900
LOCATION:
SUMMARY:ep1101
END:VEVENT
END:VCALENDAR
