BEGIN:VCALENDAR
VERSION:2.0
PRODID:-//www.charltonpark.org//NONSGML kigkonsult.se iCalcreator 2.30.10//
CALSCALE:GREGORIAN
METHOD:PUBLISH
UID:c23ede9f-09d5-4d6e-aad2-580344ee1c6c
X-WR-CALDESC:
X-WR-RELCALID:b47f3f570b47a6507950692939feb931
X-WR-TIMEZONE:America/New_York
BEGIN:VTIMEZONE
TZID:America/New_York
BEGIN:STANDARD
TZNAME:EST
DTSTART:20201101T020000
TZOFFSETFROM:-0400
TZOFFSETTO:-0500
RDATE:20211107T020000
RDATE:20221106T020000
END:STANDARD
BEGIN:DAYLIGHT
TZNAME:EDT
DTSTART:20210314T020000
TZOFFSETFROM:-0500
TZOFFSETTO:-0400
RDATE:20220313T020000
END:DAYLIGHT
END:VTIMEZONE
BEGIN:VEVENT
UID:0499b00c-9f15-4ea6-a0bd-894355d1b808
DTSTAMP:20260425T155503Z
DESCRIPTION:
DTSTART;TZID=America/New_York:20210524T000000
DTEND;TZID=America/New_York:20210524T235900
LOCATION:
SUMMARY:ep1114
END:VEVENT
END:VCALENDAR
