BEGIN:VCALENDAR
VERSION:2.0
PRODID:-//www.charltonpark.org//NONSGML kigkonsult.se iCalcreator 2.30.10//
CALSCALE:GREGORIAN
METHOD:PUBLISH
UID:ed241c1a-f3e4-4255-ab39-6f194e4df143
X-WR-CALDESC:
X-WR-RELCALID:0a163cd6d794ddcca2f7b02e21c708c9
X-WR-TIMEZONE:America/New_York
BEGIN:VTIMEZONE
TZID:America/New_York
BEGIN:STANDARD
TZNAME:EST
DTSTART:20201101T020000
TZOFFSETFROM:-0400
TZOFFSETTO:-0500
RDATE:20211107T020000
RDATE:20221106T020000
END:STANDARD
BEGIN:DAYLIGHT
TZNAME:EDT
DTSTART:20210314T020000
TZOFFSETFROM:-0500
TZOFFSETTO:-0400
RDATE:20220313T020000
END:DAYLIGHT
END:VTIMEZONE
BEGIN:VEVENT
UID:2d06827f-2885-488c-a916-51dd51800232
DTSTAMP:20260425T153637Z
DESCRIPTION:
DTSTART;TZID=America/New_York:20210525T000000
DTEND;TZID=America/New_York:20210526T235900
LOCATION:
SUMMARY:ep1109
END:VEVENT
END:VCALENDAR
