BEGIN:VCALENDAR
VERSION:2.0
PRODID:-//www.charltonpark.org//NONSGML kigkonsult.se iCalcreator 2.30.10//
CALSCALE:GREGORIAN
METHOD:PUBLISH
UID:b88dd5df-3bc9-428d-9614-a9db70554f76
X-WR-CALDESC:
X-WR-RELCALID:3e505b4fe19bd1a07fd19c5ecc2c465a
X-WR-TIMEZONE:America/New_York
BEGIN:VTIMEZONE
TZID:America/New_York
BEGIN:STANDARD
TZNAME:EST
DTSTART:20201101T020000
TZOFFSETFROM:-0400
TZOFFSETTO:-0500
RDATE:20211107T020000
RDATE:20221106T020000
END:STANDARD
BEGIN:DAYLIGHT
TZNAME:EDT
DTSTART:20210314T020000
TZOFFSETFROM:-0500
TZOFFSETTO:-0400
RDATE:20220313T020000
END:DAYLIGHT
END:VTIMEZONE
BEGIN:VEVENT
UID:3f63e5cc-bc9a-48c9-8745-0dcaf99215ad
DTSTAMP:20260425T160144Z
DESCRIPTION:
DTSTART;TZID=America/New_York:20210527T000000
DTEND;TZID=America/New_York:20210527T235900
LOCATION:
SUMMARY:ep1112
END:VEVENT
END:VCALENDAR
