BEGIN:VCALENDAR
VERSION:2.0
PRODID:-//www.charltonpark.org//NONSGML kigkonsult.se iCalcreator 2.30.10//
CALSCALE:GREGORIAN
METHOD:PUBLISH
UID:e27674e6-778d-4c53-9cf3-94606c707a99
X-WR-CALDESC:
X-WR-RELCALID:e567c2d95dac09d01395deb6ea04e4bf
X-WR-TIMEZONE:America/New_York
BEGIN:VTIMEZONE
TZID:America/New_York
BEGIN:STANDARD
TZNAME:EST
DTSTART:20201101T020000
TZOFFSETFROM:-0400
TZOFFSETTO:-0500
RDATE:20211107T020000
RDATE:20221106T020000
END:STANDARD
BEGIN:DAYLIGHT
TZNAME:EDT
DTSTART:20210314T020000
TZOFFSETFROM:-0500
TZOFFSETTO:-0400
RDATE:20220313T020000
END:DAYLIGHT
END:VTIMEZONE
BEGIN:VEVENT
UID:19d0120e-65ec-49a6-a367-34c3d5b9a192
DTSTAMP:20260425T140734Z
DESCRIPTION:
DTSTART;TZID=America/New_York:20210601T000000
DTEND;TZID=America/New_York:20210601T235900
LOCATION:
SUMMARY:ep1107
END:VEVENT
END:VCALENDAR
