BEGIN:VCALENDAR
VERSION:2.0
PRODID:-//www.charltonpark.org//NONSGML kigkonsult.se iCalcreator 2.30.10//
CALSCALE:GREGORIAN
METHOD:PUBLISH
UID:c385c955-9c58-4978-9d05-929e976475ae
X-WR-CALDESC:
X-WR-RELCALID:637bd1bfbee3114bbd99f47c5d98c252
X-WR-TIMEZONE:America/New_York
BEGIN:VTIMEZONE
TZID:America/New_York
BEGIN:STANDARD
TZNAME:EST
DTSTART:20201101T020000
TZOFFSETFROM:-0400
TZOFFSETTO:-0500
RDATE:20211107T020000
RDATE:20221106T020000
END:STANDARD
BEGIN:DAYLIGHT
TZNAME:EDT
DTSTART:20210314T020000
TZOFFSETFROM:-0500
TZOFFSETTO:-0400
RDATE:20220313T020000
END:DAYLIGHT
END:VTIMEZONE
BEGIN:VEVENT
UID:e402c03b-01c8-490f-812e-d00be4d17477
DTSTAMP:20260425T141838Z
DESCRIPTION:
DTSTART;TZID=America/New_York:20210602T000000
DTEND;TZID=America/New_York:20210603T235900
LOCATION:
SUMMARY:ep1105
END:VEVENT
END:VCALENDAR
