BEGIN:VCALENDAR
VERSION:2.0
PRODID:-//www.charltonpark.org//NONSGML kigkonsult.se iCalcreator 2.30.10//
CALSCALE:GREGORIAN
METHOD:PUBLISH
UID:aa6e42b9-e376-4102-b764-0cb02efe1e24
X-WR-CALDESC:
X-WR-RELCALID:9d7b558088437e711f7f3a8d42701405
X-WR-TIMEZONE:America/New_York
BEGIN:VTIMEZONE
TZID:America/New_York
BEGIN:STANDARD
TZNAME:EST
DTSTART:20201101T020000
TZOFFSETFROM:-0400
TZOFFSETTO:-0500
RDATE:20211107T020000
RDATE:20221106T020000
END:STANDARD
BEGIN:DAYLIGHT
TZNAME:EDT
DTSTART:20210314T020000
TZOFFSETFROM:-0500
TZOFFSETTO:-0400
RDATE:20220313T020000
END:DAYLIGHT
END:VTIMEZONE
BEGIN:VEVENT
UID:6d62985a-fd3e-4422-b36c-37dfea3edf64
DTSTAMP:20260425T140735Z
DESCRIPTION:
DTSTART;TZID=America/New_York:20210619T000000
DTEND;TZID=America/New_York:20210619T235900
LOCATION:
SUMMARY:No Village Rentals
END:VEVENT
END:VCALENDAR
