BEGIN:VCALENDAR
VERSION:2.0
PRODID:-//www.charltonpark.org//NONSGML kigkonsult.se iCalcreator 2.30.10//
CALSCALE:GREGORIAN
METHOD:PUBLISH
UID:1b8a935a-340e-474e-9d44-9cbcdc76e011
X-WR-CALDESC:
X-WR-RELCALID:ff855a557776612c59e60b89d6056769
X-WR-TIMEZONE:America/New_York
BEGIN:VTIMEZONE
TZID:America/New_York
BEGIN:STANDARD
TZNAME:EST
DTSTART:20201101T020000
TZOFFSETFROM:-0400
TZOFFSETTO:-0500
RDATE:20211107T020000
RDATE:20221106T020000
END:STANDARD
BEGIN:DAYLIGHT
TZNAME:EDT
DTSTART:20210314T020000
TZOFFSETFROM:-0500
TZOFFSETTO:-0400
RDATE:20220313T020000
END:DAYLIGHT
END:VTIMEZONE
BEGIN:VEVENT
UID:2d775155-ef17-42de-b0e4-bd055c2d878d
DTSTAMP:20260425T140741Z
DESCRIPTION:
DTSTART;TZID=America/New_York:20210620T080000
DTEND;TZID=America/New_York:20210620T210000
LOCATION:
SUMMARY:No Rentals Available
END:VEVENT
END:VCALENDAR
