BEGIN:VCALENDAR
VERSION:2.0
PRODID:-//www.charltonpark.org//NONSGML kigkonsult.se iCalcreator 2.30.10//
CALSCALE:GREGORIAN
METHOD:PUBLISH
UID:d8cdb676-def5-43d4-9761-802398364c90
X-WR-CALDESC:
X-WR-RELCALID:2cc4a09182775705a282abe328615a8d
X-WR-TIMEZONE:America/New_York
BEGIN:VTIMEZONE
TZID:America/New_York
BEGIN:STANDARD
TZNAME:EST
DTSTART:20201101T020000
TZOFFSETFROM:-0400
TZOFFSETTO:-0500
RDATE:20211107T020000
RDATE:20221106T020000
END:STANDARD
BEGIN:DAYLIGHT
TZNAME:EDT
DTSTART:20210314T020000
TZOFFSETFROM:-0500
TZOFFSETTO:-0400
RDATE:20220313T020000
END:DAYLIGHT
END:VTIMEZONE
BEGIN:VEVENT
UID:4ec02daa-c2e3-4046-ad69-5804652ce3d9
DTSTAMP:20260425T141001Z
DESCRIPTION:
DTSTART;TZID=America/New_York:20210622T000000
DTEND;TZID=America/New_York:20210622T235900
LOCATION:
SUMMARY:ep1117
END:VEVENT
END:VCALENDAR
