BEGIN:VCALENDAR
VERSION:2.0
PRODID:-//www.charltonpark.org//NONSGML kigkonsult.se iCalcreator 2.30.10//
CALSCALE:GREGORIAN
METHOD:PUBLISH
UID:1bde16d0-9224-4a66-adb8-eb5cb585ae03
X-WR-CALDESC:
X-WR-RELCALID:a6fb9308378bc9756a71c5fd898a310c
X-WR-TIMEZONE:America/New_York
BEGIN:VTIMEZONE
TZID:America/New_York
BEGIN:STANDARD
TZNAME:EST
DTSTART:20201101T020000
TZOFFSETFROM:-0400
TZOFFSETTO:-0500
RDATE:20211107T020000
RDATE:20221106T020000
END:STANDARD
BEGIN:DAYLIGHT
TZNAME:EDT
DTSTART:20210314T020000
TZOFFSETFROM:-0500
TZOFFSETTO:-0400
RDATE:20220313T020000
END:DAYLIGHT
END:VTIMEZONE
BEGIN:VEVENT
UID:7f1a289a-9c89-4800-aa07-6ec3aeb1ec8d
DTSTAMP:20260425T123405Z
DESCRIPTION:
DTSTART;TZID=America/New_York:20210709T000000
DTEND;TZID=America/New_York:20210711T235900
LOCATION:
SUMMARY:Gas & Steam Show
END:VEVENT
END:VCALENDAR
