BEGIN:VCALENDAR
VERSION:2.0
PRODID:-//www.charltonpark.org//NONSGML kigkonsult.se iCalcreator 2.30.10//
CALSCALE:GREGORIAN
METHOD:PUBLISH
UID:ac3102c0-959a-4b82-9965-2f0fe992aabe
X-WR-CALDESC:
X-WR-RELCALID:c7fa1f3d0de141cdf5e2b1544cac96fe
X-WR-TIMEZONE:America/New_York
BEGIN:VTIMEZONE
TZID:America/New_York
BEGIN:STANDARD
TZNAME:EST
DTSTART:20201101T020000
TZOFFSETFROM:-0400
TZOFFSETTO:-0500
RDATE:20211107T020000
RDATE:20221106T020000
END:STANDARD
BEGIN:DAYLIGHT
TZNAME:EDT
DTSTART:20210314T020000
TZOFFSETFROM:-0500
TZOFFSETTO:-0400
RDATE:20220313T020000
END:DAYLIGHT
END:VTIMEZONE
BEGIN:VEVENT
UID:3d5934c0-e78a-45cb-9a75-d55a6be558c4
DTSTAMP:20260425T123306Z
DESCRIPTION:
DTSTART;TZID=America/New_York:20210709T000000
DTEND;TZID=America/New_York:20210711T235900
LOCATION:
SUMMARY:No Rentals
END:VEVENT
END:VCALENDAR
