BEGIN:VCALENDAR
VERSION:2.0
PRODID:-//www.charltonpark.org//NONSGML kigkonsult.se iCalcreator 2.30.10//
CALSCALE:GREGORIAN
METHOD:PUBLISH
UID:f7f7366d-db33-4b28-bf2f-b1d19c07d055
X-WR-CALDESC:
X-WR-RELCALID:b174d08a911f332b4725931c201d02c0
X-WR-TIMEZONE:America/New_York
BEGIN:VTIMEZONE
TZID:America/New_York
BEGIN:STANDARD
TZNAME:EST
DTSTART:20201101T020000
TZOFFSETFROM:-0400
TZOFFSETTO:-0500
RDATE:20211107T020000
RDATE:20221106T020000
END:STANDARD
BEGIN:DAYLIGHT
TZNAME:EDT
DTSTART:20210314T020000
TZOFFSETFROM:-0500
TZOFFSETTO:-0400
RDATE:20220313T020000
END:DAYLIGHT
END:VTIMEZONE
BEGIN:VEVENT
UID:a84e8570-d96c-49b3-88e4-48284235cd4c
DTSTAMP:20260425T123212Z
DESCRIPTION:
DTSTART;TZID=America/New_York:20210720T000000
DTEND;TZID=America/New_York:20210722T235900
LOCATION:
SUMMARY:ep1115
END:VEVENT
END:VCALENDAR
