BEGIN:VCALENDAR
VERSION:2.0
PRODID:-//www.charltonpark.org//NONSGML kigkonsult.se iCalcreator 2.30.10//
CALSCALE:GREGORIAN
METHOD:PUBLISH
UID:1db6f0b8-381b-45a9-bb17-db9a4bd028b4
X-WR-CALDESC:
X-WR-RELCALID:743b52025ebba2a7a29dc30702649fef
X-WR-TIMEZONE:America/New_York
BEGIN:VTIMEZONE
TZID:America/New_York
BEGIN:STANDARD
TZNAME:EST
DTSTART:20201101T020000
TZOFFSETFROM:-0400
TZOFFSETTO:-0500
RDATE:20211107T020000
RDATE:20221106T020000
END:STANDARD
BEGIN:DAYLIGHT
TZNAME:EDT
DTSTART:20210314T020000
TZOFFSETFROM:-0500
TZOFFSETTO:-0400
RDATE:20220313T020000
END:DAYLIGHT
END:VTIMEZONE
BEGIN:VEVENT
UID:a1834337-a2f9-401d-9b1d-3b868c3f36fb
DTSTAMP:20260425T141854Z
DESCRIPTION:
DTSTART;TZID=America/New_York:20210812T000000
DTEND;TZID=America/New_York:20210815T235900
LOCATION:
SUMMARY:Great Lakes Longbow Invitational
END:VEVENT
END:VCALENDAR
