BEGIN:VCALENDAR
VERSION:2.0
PRODID:-//www.charltonpark.org//NONSGML kigkonsult.se iCalcreator 2.30.10//
CALSCALE:GREGORIAN
METHOD:PUBLISH
UID:b18cde9e-b7ed-4f83-ba22-ec0e510ab370
X-WR-CALDESC:
X-WR-RELCALID:e933bdeaa91923909d18ef1293c23c01
X-WR-TIMEZONE:America/New_York
BEGIN:VTIMEZONE
TZID:America/New_York
BEGIN:STANDARD
TZNAME:EST
DTSTART:20201101T020000
TZOFFSETFROM:-0400
TZOFFSETTO:-0500
RDATE:20211107T020000
RDATE:20221106T020000
END:STANDARD
BEGIN:DAYLIGHT
TZNAME:EDT
DTSTART:20210314T020000
TZOFFSETFROM:-0500
TZOFFSETTO:-0400
RDATE:20220313T020000
END:DAYLIGHT
END:VTIMEZONE
BEGIN:VEVENT
UID:cb67ac87-868d-4777-8975-89b3a53804a6
DTSTAMP:20260425T140324Z
DESCRIPTION:
DTSTART;TZID=America/New_York:20210812T000000
DTEND;TZID=America/New_York:20210815T235900
LOCATION:
SUMMARY:No Rentals
END:VEVENT
END:VCALENDAR
