BEGIN:VCALENDAR
VERSION:2.0
PRODID:-//www.charltonpark.org//NONSGML kigkonsult.se iCalcreator 2.30.10//
CALSCALE:GREGORIAN
METHOD:PUBLISH
UID:26cc6903-03f1-4b5d-ac88-3b11d4519a96
X-WR-CALDESC:
X-WR-RELCALID:62654bc1d7eb48ca352948bdb471dc16
X-WR-TIMEZONE:America/New_York
BEGIN:VTIMEZONE
TZID:America/New_York
BEGIN:STANDARD
TZNAME:EST
DTSTART:20201101T020000
TZOFFSETFROM:-0400
TZOFFSETTO:-0500
RDATE:20211107T020000
RDATE:20221106T020000
END:STANDARD
BEGIN:DAYLIGHT
TZNAME:EDT
DTSTART:20210314T020000
TZOFFSETFROM:-0500
TZOFFSETTO:-0400
RDATE:20220313T020000
RDATE:20230312T020000
END:DAYLIGHT
END:VTIMEZONE
BEGIN:VEVENT
UID:256e9f4e-8165-40af-8c87-1a78a2c8e4e6
DTSTAMP:20260425T153925Z
DESCRIPTION:
DTSTART;TZID=America/New_York:20210924T000000
DTEND;TZID=America/New_York:20210926T235900
LOCATION:
SUMMARY:Fall Harvest Festival
END:VEVENT
END:VCALENDAR
