BEGIN:VCALENDAR
VERSION:2.0
PRODID:-//www.charltonpark.org//NONSGML kigkonsult.se iCalcreator 2.30.10//
CALSCALE:GREGORIAN
METHOD:PUBLISH
UID:7c65729b-95f1-4c4d-897d-cddebc0a3062
X-WR-CALDESC:
X-WR-RELCALID:04012504b45b9145a816f137c15feb8c
X-WR-TIMEZONE:America/New_York
BEGIN:VTIMEZONE
TZID:America/New_York
BEGIN:STANDARD
TZNAME:EST
DTSTART:20201101T020000
TZOFFSETFROM:-0400
TZOFFSETTO:-0500
RDATE:20211107T020000
RDATE:20221106T020000
END:STANDARD
BEGIN:DAYLIGHT
TZNAME:EDT
DTSTART:20210314T020000
TZOFFSETFROM:-0500
TZOFFSETTO:-0400
RDATE:20220313T020000
RDATE:20230312T020000
END:DAYLIGHT
END:VTIMEZONE
BEGIN:VEVENT
UID:a7c15209-c05f-4afe-87f6-3c2feea31fd2
DTSTAMP:20260425T170711Z
DESCRIPTION:
DTSTART;TZID=America/New_York:20211001T000000
DTEND;TZID=America/New_York:20211001T235900
LOCATION:
SUMMARY:ep1120
END:VEVENT
END:VCALENDAR
