BEGIN:VCALENDAR
VERSION:2.0
PRODID:-//www.charltonpark.org//NONSGML kigkonsult.se iCalcreator 2.30.10//
CALSCALE:GREGORIAN
METHOD:PUBLISH
UID:dfab5d7d-9cd9-448e-86fb-f4e478b69099
X-WR-CALDESC:
X-WR-RELCALID:5e0e09dec0562b5327e8054cb59f59d7
X-WR-TIMEZONE:America/New_York
BEGIN:VTIMEZONE
TZID:America/New_York
BEGIN:STANDARD
TZNAME:EST
DTSTART:20201101T020000
TZOFFSETFROM:-0400
TZOFFSETTO:-0500
RDATE:20211107T020000
RDATE:20221106T020000
END:STANDARD
BEGIN:DAYLIGHT
TZNAME:EDT
DTSTART:20210314T020000
TZOFFSETFROM:-0500
TZOFFSETTO:-0400
RDATE:20220313T020000
RDATE:20230312T020000
END:DAYLIGHT
END:VTIMEZONE
BEGIN:VEVENT
UID:2a0407a1-5444-4d26-864c-fc65ead94415
DTSTAMP:20260425T171226Z
DESCRIPTION:
DTSTART;TZID=America/New_York:20211006T000000
DTEND;TZID=America/New_York:20211007T235900
LOCATION:
SUMMARY:ep1120
END:VEVENT
END:VCALENDAR
