BEGIN:VCALENDAR
VERSION:2.0
PRODID:-//www.charltonpark.org//NONSGML kigkonsult.se iCalcreator 2.30.10//
CALSCALE:GREGORIAN
METHOD:PUBLISH
UID:d60a09d4-5850-43ba-b462-e041e6050e2c
X-WR-CALDESC:
X-WR-RELCALID:f9718531a523b77a565e0229e10c22a0
X-WR-TIMEZONE:America/New_York
BEGIN:VTIMEZONE
TZID:America/New_York
BEGIN:STANDARD
TZNAME:EST
DTSTART:20201101T020000
TZOFFSETFROM:-0400
TZOFFSETTO:-0500
RDATE:20211107T020000
RDATE:20221106T020000
END:STANDARD
BEGIN:DAYLIGHT
TZNAME:EDT
DTSTART:20210314T020000
TZOFFSETFROM:-0500
TZOFFSETTO:-0400
RDATE:20220313T020000
RDATE:20230312T020000
END:DAYLIGHT
END:VTIMEZONE
BEGIN:VEVENT
UID:c6c1915b-25ed-41f9-b7cc-92db034fa4dd
DTSTAMP:20260425T171749Z
DESCRIPTION:
DTSTART;TZID=America/New_York:20211008T000000
DTEND;TZID=America/New_York:20211008T235900
LOCATION:
SUMMARY:ep1132
END:VEVENT
END:VCALENDAR
