BEGIN:VCALENDAR
VERSION:2.0
PRODID:-//www.charltonpark.org//NONSGML kigkonsult.se iCalcreator 2.30.10//
CALSCALE:GREGORIAN
METHOD:PUBLISH
UID:8dcfce5e-ba41-4710-bfb3-14919e36b483
X-WR-CALDESC:
X-WR-RELCALID:b43bba2b884b91346cf60eff312e0536
X-WR-TIMEZONE:America/New_York
BEGIN:VTIMEZONE
TZID:America/New_York
BEGIN:STANDARD
TZNAME:EST
DTSTART:20201101T020000
TZOFFSETFROM:-0400
TZOFFSETTO:-0500
RDATE:20211107T020000
RDATE:20221106T020000
END:STANDARD
BEGIN:DAYLIGHT
TZNAME:EDT
DTSTART:20210314T020000
TZOFFSETFROM:-0500
TZOFFSETTO:-0400
RDATE:20220313T020000
RDATE:20230312T020000
END:DAYLIGHT
END:VTIMEZONE
BEGIN:VEVENT
UID:ebada149-1d67-403d-8324-4192ed4c4cc1
DTSTAMP:20260425T171328Z
DESCRIPTION:
DTSTART;TZID=America/New_York:20211013T000000
DTEND;TZID=America/New_York:20211013T235900
LOCATION:
SUMMARY:ep1131
END:VEVENT
END:VCALENDAR
