BEGIN:VCALENDAR
VERSION:2.0
PRODID:-//www.charltonpark.org//NONSGML kigkonsult.se iCalcreator 2.30.10//
CALSCALE:GREGORIAN
METHOD:PUBLISH
UID:72c9f52f-850c-4e95-977c-55eb8fd14a94
X-WR-CALDESC:
X-WR-RELCALID:217da285d31af0d49fdd0e7c907ab7fc
X-WR-TIMEZONE:America/New_York
BEGIN:VTIMEZONE
TZID:America/New_York
BEGIN:STANDARD
TZNAME:EST
DTSTART:20201101T020000
TZOFFSETFROM:-0400
TZOFFSETTO:-0500
RDATE:20211107T020000
RDATE:20221106T020000
END:STANDARD
BEGIN:DAYLIGHT
TZNAME:EDT
DTSTART:20210314T020000
TZOFFSETFROM:-0500
TZOFFSETTO:-0400
RDATE:20220313T020000
RDATE:20230312T020000
END:DAYLIGHT
END:VTIMEZONE
BEGIN:VEVENT
UID:8896e4ec-c3a5-4b2e-8700-a101d42bc17e
DTSTAMP:20260425T172859Z
DESCRIPTION:
DTSTART;TZID=America/New_York:20211014T000000
DTEND;TZID=America/New_York:20211014T235900
LOCATION:
SUMMARY:ep1129
END:VEVENT
END:VCALENDAR
