BEGIN:VCALENDAR
VERSION:2.0
PRODID:-//www.charltonpark.org//NONSGML kigkonsult.se iCalcreator 2.30.10//
CALSCALE:GREGORIAN
METHOD:PUBLISH
UID:e9810d95-0007-4d38-a450-3b231639a3d7
X-WR-CALDESC:
X-WR-RELCALID:a3cffb7084f8c47daebdbb09c7d1eeca
X-WR-TIMEZONE:America/New_York
BEGIN:VTIMEZONE
TZID:America/New_York
BEGIN:STANDARD
TZNAME:EST
DTSTART:20201101T020000
TZOFFSETFROM:-0400
TZOFFSETTO:-0500
RDATE:20211107T020000
RDATE:20221106T020000
END:STANDARD
BEGIN:DAYLIGHT
TZNAME:EDT
DTSTART:20210314T020000
TZOFFSETFROM:-0500
TZOFFSETTO:-0400
RDATE:20220313T020000
RDATE:20230312T020000
END:DAYLIGHT
END:VTIMEZONE
BEGIN:VEVENT
UID:d661c626-ec47-4d75-a938-1a2d4a15b73b
DTSTAMP:20260425T172438Z
DESCRIPTION:
DTSTART;TZID=America/New_York:20211015T000000
DTEND;TZID=America/New_York:20211015T235900
LOCATION:
SUMMARY:ep1132
END:VEVENT
END:VCALENDAR
