BEGIN:VCALENDAR
VERSION:2.0
PRODID:-//www.charltonpark.org//NONSGML kigkonsult.se iCalcreator 2.30.10//
CALSCALE:GREGORIAN
METHOD:PUBLISH
UID:c413c05c-6b7d-40f7-977b-4119c2416016
X-WR-CALDESC:
X-WR-RELCALID:b947f6ad547f78a2a07a8e9d9f44340a
X-WR-TIMEZONE:America/New_York
BEGIN:VTIMEZONE
TZID:America/New_York
BEGIN:STANDARD
TZNAME:EST
DTSTART:20201101T020000
TZOFFSETFROM:-0400
TZOFFSETTO:-0500
RDATE:20211107T020000
RDATE:20221106T020000
END:STANDARD
BEGIN:DAYLIGHT
TZNAME:EDT
DTSTART:20210314T020000
TZOFFSETFROM:-0500
TZOFFSETTO:-0400
RDATE:20220313T020000
RDATE:20230312T020000
END:DAYLIGHT
END:VTIMEZONE
BEGIN:VEVENT
UID:45b9ab19-4609-4b7c-93c8-b899666ade76
DTSTAMP:20260425T172133Z
DESCRIPTION:
DTSTART;TZID=America/New_York:20211020T000000
DTEND;TZID=America/New_York:20211022T235900
LOCATION:
SUMMARY:ep1125
END:VEVENT
END:VCALENDAR
