BEGIN:VCALENDAR
VERSION:2.0
PRODID:-//www.charltonpark.org//NONSGML kigkonsult.se iCalcreator 2.30.10//
CALSCALE:GREGORIAN
METHOD:PUBLISH
UID:13daf7ee-f382-4da6-838d-af6c5458702b
X-WR-CALDESC:
X-WR-RELCALID:9fb2ca26ba1e4f7a088dd995c204768e
X-WR-TIMEZONE:America/New_York
BEGIN:VTIMEZONE
TZID:America/New_York
BEGIN:STANDARD
TZNAME:EST
DTSTART:20201101T020000
TZOFFSETFROM:-0400
TZOFFSETTO:-0500
RDATE:20211107T020000
RDATE:20221106T020000
END:STANDARD
BEGIN:DAYLIGHT
TZNAME:EDT
DTSTART:20210314T020000
TZOFFSETFROM:-0500
TZOFFSETTO:-0400
RDATE:20220313T020000
RDATE:20230312T020000
END:DAYLIGHT
END:VTIMEZONE
BEGIN:VEVENT
UID:c26a3008-33c6-4d25-80ef-7e8c1d9e53fd
DTSTAMP:20260425T171210Z
DESCRIPTION:
DTSTART;TZID=America/New_York:20211026T000000
DTEND;TZID=America/New_York:20211026T235900
LOCATION:
SUMMARY:ep1132
END:VEVENT
END:VCALENDAR
