BEGIN:VCALENDAR
VERSION:2.0
PRODID:-//www.charltonpark.org//NONSGML kigkonsult.se iCalcreator 2.30.10//
CALSCALE:GREGORIAN
METHOD:PUBLISH
UID:0129a96c-8fed-407e-84ae-4307d7e562dd
X-WR-CALDESC:
X-WR-RELCALID:50faaa6353a07b59d05f031aba4dfe4f
X-WR-TIMEZONE:America/New_York
BEGIN:VTIMEZONE
TZID:America/New_York
BEGIN:STANDARD
TZNAME:EST
DTSTART:20201101T020000
TZOFFSETFROM:-0400
TZOFFSETTO:-0500
RDATE:20211107T020000
RDATE:20221106T020000
END:STANDARD
BEGIN:DAYLIGHT
TZNAME:EDT
DTSTART:20210314T020000
TZOFFSETFROM:-0500
TZOFFSETTO:-0400
RDATE:20220313T020000
RDATE:20230312T020000
END:DAYLIGHT
END:VTIMEZONE
BEGIN:VEVENT
UID:e19ed2d5-3678-43df-9b55-4626b45a184d
DTSTAMP:20260425T171852Z
DESCRIPTION:
DTSTART;TZID=America/New_York:20211027T000000
DTEND;TZID=America/New_York:20211027T235900
LOCATION:
SUMMARY:ep1127
END:VEVENT
END:VCALENDAR
