BEGIN:VCALENDAR
VERSION:2.0
PRODID:-//www.charltonpark.org//NONSGML kigkonsult.se iCalcreator 2.30.10//
CALSCALE:GREGORIAN
METHOD:PUBLISH
UID:da242958-5281-4fe6-b81f-28d5bac36c97
X-WR-CALDESC:
X-WR-RELCALID:931cc5480395ea01e799657f1fc177c2
X-WR-TIMEZONE:America/New_York
BEGIN:VTIMEZONE
TZID:America/New_York
BEGIN:STANDARD
TZNAME:EST
DTSTART:20201101T020000
TZOFFSETFROM:-0400
TZOFFSETTO:-0500
RDATE:20211107T020000
RDATE:20221106T020000
END:STANDARD
BEGIN:DAYLIGHT
TZNAME:EDT
DTSTART:20210314T020000
TZOFFSETFROM:-0500
TZOFFSETTO:-0400
RDATE:20220313T020000
RDATE:20230312T020000
END:DAYLIGHT
END:VTIMEZONE
BEGIN:VEVENT
UID:c54b00b2-86b4-45b3-bf0d-08ff8132081b
DTSTAMP:20260425T172200Z
DESCRIPTION:
DTSTART;TZID=America/New_York:20211028T000000
DTEND;TZID=America/New_York:20211028T235900
LOCATION:
SUMMARY:ep1132
END:VEVENT
END:VCALENDAR
