BEGIN:VCALENDAR
VERSION:2.0
PRODID:-//www.charltonpark.org//NONSGML kigkonsult.se iCalcreator 2.30.10//
CALSCALE:GREGORIAN
METHOD:PUBLISH
UID:3b1ae937-93e8-4add-a198-2dcc505f281e
X-WR-CALDESC:
X-WR-RELCALID:982afab6a7dcecfc6c2478d0c165ed66
X-WR-TIMEZONE:America/New_York
BEGIN:VTIMEZONE
TZID:America/New_York
BEGIN:STANDARD
TZNAME:EST
DTSTART:20211107T020000
TZOFFSETFROM:-0400
TZOFFSETTO:-0500
RDATE:20221106T020000
END:STANDARD
BEGIN:DAYLIGHT
TZNAME:EDT
DTSTART:20210314T020000
TZOFFSETFROM:-0500
TZOFFSETTO:-0400
RDATE:20220313T020000
RDATE:20230312T020000
END:DAYLIGHT
END:VTIMEZONE
BEGIN:VEVENT
UID:3c573e13-07f6-4347-ab8b-9305adc5c470
DTSTAMP:20260425T183108Z
DESCRIPTION:
DTSTART;TZID=America/New_York:20211109T000000
DTEND;TZID=America/New_York:20211109T235900
LOCATION:
SUMMARY:ep1128
END:VEVENT
END:VCALENDAR
