BEGIN:VCALENDAR
VERSION:2.0
PRODID:-//www.charltonpark.org//NONSGML kigkonsult.se iCalcreator 2.30.10//
CALSCALE:GREGORIAN
METHOD:PUBLISH
UID:a09a6879-3795-4a8d-bf71-c689c6082d85
X-WR-CALDESC:
X-WR-RELCALID:4c9fc6494392f1d9aaebc9b33742c88d
X-WR-TIMEZONE:America/New_York
BEGIN:VTIMEZONE
TZID:America/New_York
BEGIN:STANDARD
TZNAME:EST
DTSTART:20211107T020000
TZOFFSETFROM:-0400
TZOFFSETTO:-0500
RDATE:20221106T020000
END:STANDARD
BEGIN:DAYLIGHT
TZNAME:EDT
DTSTART:20210314T020000
TZOFFSETFROM:-0500
TZOFFSETTO:-0400
RDATE:20220313T020000
RDATE:20230312T020000
END:DAYLIGHT
END:VTIMEZONE
BEGIN:VEVENT
UID:1f1ef4f5-353d-4ffc-99af-3d1282d20e25
DTSTAMP:20260425T184933Z
DESCRIPTION:
DTSTART;TZID=America/New_York:20211112T000000
DTEND;TZID=America/New_York:20211112T235900
LOCATION:
SUMMARY:ep1126
END:VEVENT
END:VCALENDAR
