BEGIN:VCALENDAR
VERSION:2.0
PRODID:-//www.charltonpark.org//NONSGML kigkonsult.se iCalcreator 2.30.10//
CALSCALE:GREGORIAN
METHOD:PUBLISH
UID:5845d9b6-07dd-40b9-aeef-4037c05140ed
X-WR-CALDESC:
X-WR-RELCALID:197de5073b81a198f7280d4ffd2edd6d
X-WR-TIMEZONE:America/New_York
BEGIN:VTIMEZONE
TZID:America/New_York
BEGIN:STANDARD
TZNAME:EST
DTSTART:20211107T020000
TZOFFSETFROM:-0400
TZOFFSETTO:-0500
RDATE:20221106T020000
END:STANDARD
BEGIN:DAYLIGHT
TZNAME:EDT
DTSTART:20210314T020000
TZOFFSETFROM:-0500
TZOFFSETTO:-0400
RDATE:20220313T020000
RDATE:20230312T020000
END:DAYLIGHT
END:VTIMEZONE
BEGIN:VEVENT
UID:a672e333-99ce-4cbc-b00a-a0d8440fdb55
DTSTAMP:20260425T183529Z
DESCRIPTION:
DTSTART;TZID=America/New_York:20211116T000000
DTEND;TZID=America/New_York:20211118T235900
LOCATION:
SUMMARY:ep1123
END:VEVENT
END:VCALENDAR
