BEGIN:VCALENDAR
VERSION:2.0
PRODID:-//www.charltonpark.org//NONSGML kigkonsult.se iCalcreator 2.30.10//
CALSCALE:GREGORIAN
METHOD:PUBLISH
UID:30ca6e74-ddbb-4315-b7a7-3e3897d28e28
X-WR-CALDESC:
X-WR-RELCALID:694ca441a49a908a5f34e680f785bdd4
X-WR-TIMEZONE:America/New_York
BEGIN:VTIMEZONE
TZID:America/New_York
BEGIN:STANDARD
TZNAME:EST
DTSTART:20211107T020000
TZOFFSETFROM:-0400
TZOFFSETTO:-0500
RDATE:20221106T020000
END:STANDARD
BEGIN:DAYLIGHT
TZNAME:EDT
DTSTART:20210314T020000
TZOFFSETFROM:-0500
TZOFFSETTO:-0400
RDATE:20220313T020000
RDATE:20230312T020000
END:DAYLIGHT
END:VTIMEZONE
BEGIN:VEVENT
UID:73b1b232-d336-43ce-86f0-cc96cdab5bfd
DTSTAMP:20260425T184108Z
DESCRIPTION:
DTSTART;TZID=America/New_York:20211119T000000
DTEND;TZID=America/New_York:20211119T235900
LOCATION:
SUMMARY:ep1132
END:VEVENT
END:VCALENDAR
