BEGIN:VCALENDAR
VERSION:2.0
PRODID:-//www.charltonpark.org//NONSGML kigkonsult.se iCalcreator 2.30.10//
CALSCALE:GREGORIAN
METHOD:PUBLISH
UID:64a2aaf0-af8b-4c26-96c2-f4b01b5e0435
X-WR-CALDESC:
X-WR-RELCALID:cfdb5802545cd34b077e16f1de221313
X-WR-TIMEZONE:America/New_York
BEGIN:VTIMEZONE
TZID:America/New_York
BEGIN:STANDARD
TZNAME:EST
DTSTART:20211107T020000
TZOFFSETFROM:-0400
TZOFFSETTO:-0500
RDATE:20221106T020000
END:STANDARD
BEGIN:DAYLIGHT
TZNAME:EDT
DTSTART:20210314T020000
TZOFFSETFROM:-0500
TZOFFSETTO:-0400
RDATE:20220313T020000
RDATE:20230312T020000
END:DAYLIGHT
END:VTIMEZONE
BEGIN:VEVENT
UID:b6d726f8-3245-493f-8c97-d3425b4aab00
DTSTAMP:20260425T183249Z
DESCRIPTION:
DTSTART;TZID=America/New_York:20211124T000000
DTEND;TZID=America/New_York:20211124T235900
LOCATION:
SUMMARY:ep1132
END:VEVENT
END:VCALENDAR
