BEGIN:VCALENDAR
VERSION:2.0
PRODID:-//www.charltonpark.org//NONSGML kigkonsult.se iCalcreator 2.30.10//
CALSCALE:GREGORIAN
METHOD:PUBLISH
UID:f72e8bb0-d2ff-44aa-9bda-1127eab565ed
X-WR-CALDESC:
X-WR-RELCALID:977c0746f7335c8971307ba03bd0fac0
X-WR-TIMEZONE:America/New_York
BEGIN:VTIMEZONE
TZID:America/New_York
BEGIN:STANDARD
TZNAME:EST
DTSTART:20211107T020000
TZOFFSETFROM:-0400
TZOFFSETTO:-0500
RDATE:20221106T020000
END:STANDARD
BEGIN:DAYLIGHT
TZNAME:EDT
DTSTART:20220313T020000
TZOFFSETFROM:-0500
TZOFFSETTO:-0400
RDATE:20230312T020000
END:DAYLIGHT
END:VTIMEZONE
BEGIN:VEVENT
UID:3432be1c-d9a8-487c-b7c7-24ea6eda08c1
DTSTAMP:20260426T011308Z
DESCRIPTION:
DTSTART;TZID=America/New_York:20220318T000000
DTEND;TZID=America/New_York:20220318T235900
LOCATION:
SUMMARY:ep1135
END:VEVENT
END:VCALENDAR
