BEGIN:VCALENDAR
VERSION:2.0
PRODID:-//www.charltonpark.org//NONSGML kigkonsult.se iCalcreator 2.30.10//
CALSCALE:GREGORIAN
METHOD:PUBLISH
UID:727f5668-2f6d-4fe4-a52a-e47fcb2f64a3
X-WR-CALDESC:
X-WR-RELCALID:154238420998217d6b18b06f1f198e1c
X-WR-TIMEZONE:America/New_York
BEGIN:VTIMEZONE
TZID:America/New_York
BEGIN:STANDARD
TZNAME:EST
DTSTART:20211107T020000
TZOFFSETFROM:-0400
TZOFFSETTO:-0500
RDATE:20221106T020000
END:STANDARD
BEGIN:DAYLIGHT
TZNAME:EDT
DTSTART:20220313T020000
TZOFFSETFROM:-0500
TZOFFSETTO:-0400
RDATE:20230312T020000
END:DAYLIGHT
END:VTIMEZONE
BEGIN:VEVENT
UID:4f859571-62be-4ed7-b193-f3136bea7274
DTSTAMP:20260426T011216Z
DESCRIPTION:
DTSTART;TZID=America/New_York:20220325T000000
DTEND;TZID=America/New_York:20220325T235900
LOCATION:
SUMMARY:ep1135
END:VEVENT
END:VCALENDAR
