BEGIN:VCALENDAR
VERSION:2.0
PRODID:-//www.charltonpark.org//NONSGML kigkonsult.se iCalcreator 2.30.10//
CALSCALE:GREGORIAN
METHOD:PUBLISH
UID:aed25697-3eec-449e-920f-abe4992dcb29
X-WR-CALDESC:
X-WR-RELCALID:5a5031f86604c8cba75c678ea96c9fd1
X-WR-TIMEZONE:America/New_York
BEGIN:VTIMEZONE
TZID:America/New_York
BEGIN:STANDARD
TZNAME:EST
DTSTART:20211107T020000
TZOFFSETFROM:-0400
TZOFFSETTO:-0500
RDATE:20221106T020000
END:STANDARD
BEGIN:DAYLIGHT
TZNAME:EDT
DTSTART:20220313T020000
TZOFFSETFROM:-0500
TZOFFSETTO:-0400
RDATE:20230312T020000
END:DAYLIGHT
END:VTIMEZONE
BEGIN:VEVENT
UID:6e0fde39-b3f9-4478-b9bb-3715293d1118
DTSTAMP:20260426T025235Z
DESCRIPTION:
DTSTART;TZID=America/New_York:20220411T000000
DTEND;TZID=America/New_York:20220411T235900
LOCATION:
SUMMARY:ep1154
END:VEVENT
END:VCALENDAR
