BEGIN:VCALENDAR
VERSION:2.0
PRODID:-//www.charltonpark.org//NONSGML kigkonsult.se iCalcreator 2.30.10//
CALSCALE:GREGORIAN
METHOD:PUBLISH
UID:ad8d4e37-0a1c-4c4a-bdf5-6dbb35b21dd5
X-WR-CALDESC:
X-WR-RELCALID:d28b46643890601bb743f12f20dd6969
X-WR-TIMEZONE:America/New_York
BEGIN:VTIMEZONE
TZID:America/New_York
BEGIN:STANDARD
TZNAME:EST
DTSTART:20211107T020000
TZOFFSETFROM:-0400
TZOFFSETTO:-0500
RDATE:20221106T020000
END:STANDARD
BEGIN:DAYLIGHT
TZNAME:EDT
DTSTART:20220313T020000
TZOFFSETFROM:-0500
TZOFFSETTO:-0400
RDATE:20230312T020000
END:DAYLIGHT
END:VTIMEZONE
BEGIN:VEVENT
UID:5b9d6a31-00c7-4349-a583-b88c199612fe
DTSTAMP:20260426T025144Z
DESCRIPTION:
DTSTART;TZID=America/New_York:20220422T000000
DTEND;TZID=America/New_York:20220422T235900
LOCATION:
SUMMARY:ep1137
END:VEVENT
END:VCALENDAR
