BEGIN:VCALENDAR
VERSION:2.0
PRODID:-//www.charltonpark.org//NONSGML kigkonsult.se iCalcreator 2.30.10//
CALSCALE:GREGORIAN
METHOD:PUBLISH
UID:375d540f-8ef6-4976-a5cf-b0abfcc974c6
X-WR-CALDESC:
X-WR-RELCALID:83be9e8eb21028e9d1d6c48eb818b8ec
X-WR-TIMEZONE:America/New_York
BEGIN:VTIMEZONE
TZID:America/New_York
BEGIN:STANDARD
TZNAME:EST
DTSTART:20211107T020000
TZOFFSETFROM:-0400
TZOFFSETTO:-0500
RDATE:20221106T020000
END:STANDARD
BEGIN:DAYLIGHT
TZNAME:EDT
DTSTART:20220313T020000
TZOFFSETFROM:-0500
TZOFFSETTO:-0400
RDATE:20230312T020000
END:DAYLIGHT
END:VTIMEZONE
BEGIN:VEVENT
UID:f510a67e-4156-4dde-812d-97b547bf9c41
DTSTAMP:20260426T025734Z
DESCRIPTION:
DTSTART;TZID=America/New_York:20220425T000000
DTEND;TZID=America/New_York:20220425T235900
LOCATION:
SUMMARY:ep1152
END:VEVENT
END:VCALENDAR
