BEGIN:VCALENDAR
VERSION:2.0
PRODID:-//www.charltonpark.org//NONSGML kigkonsult.se iCalcreator 2.30.10//
CALSCALE:GREGORIAN
METHOD:PUBLISH
UID:d8e4979b-8c7d-43eb-8de6-132ab4463dc3
X-WR-CALDESC:
X-WR-RELCALID:cca260d89115da929611d2ed7818aba9
X-WR-TIMEZONE:America/New_York
BEGIN:VTIMEZONE
TZID:America/New_York
BEGIN:STANDARD
TZNAME:EST
DTSTART:20211107T020000
TZOFFSETFROM:-0400
TZOFFSETTO:-0500
RDATE:20221106T020000
END:STANDARD
BEGIN:DAYLIGHT
TZNAME:EDT
DTSTART:20220313T020000
TZOFFSETFROM:-0500
TZOFFSETTO:-0400
RDATE:20230312T020000
END:DAYLIGHT
END:VTIMEZONE
BEGIN:VEVENT
UID:9c8b0638-61a5-4d0b-8b95-d07649c0e0af
DTSTAMP:20260426T025402Z
DESCRIPTION:
DTSTART;TZID=America/New_York:20220429T000000
DTEND;TZID=America/New_York:20220429T235900
LOCATION:
SUMMARY:ep1138
END:VEVENT
END:VCALENDAR
