BEGIN:VCALENDAR
VERSION:2.0
PRODID:-//www.charltonpark.org//NONSGML kigkonsult.se iCalcreator 2.30.10//
CALSCALE:GREGORIAN
METHOD:PUBLISH
UID:65f4730f-1a81-46d5-9dd1-3adb7941f766
X-WR-CALDESC:
X-WR-RELCALID:806ff3e04b30d073d062b2bd84dda326
X-WR-TIMEZONE:America/New_York
BEGIN:VTIMEZONE
TZID:America/New_York
BEGIN:STANDARD
TZNAME:EST
DTSTART:20211107T020000
TZOFFSETFROM:-0400
TZOFFSETTO:-0500
RDATE:20221106T020000
END:STANDARD
BEGIN:DAYLIGHT
TZNAME:EDT
DTSTART:20220313T020000
TZOFFSETFROM:-0500
TZOFFSETTO:-0400
RDATE:20230312T020000
END:DAYLIGHT
END:VTIMEZONE
BEGIN:VEVENT
UID:7f9a5e0c-07e6-4198-8bad-aa205d909f68
DTSTAMP:20260426T040842Z
DESCRIPTION:
DTSTART;TZID=America/New_York:20220502T000000
DTEND;TZID=America/New_York:20220504T235900
LOCATION:
SUMMARY:ep1139
END:VEVENT
END:VCALENDAR
