BEGIN:VCALENDAR
VERSION:2.0
PRODID:-//www.charltonpark.org//NONSGML kigkonsult.se iCalcreator 2.30.10//
CALSCALE:GREGORIAN
METHOD:PUBLISH
UID:eda42bfb-d3f7-4949-bb26-4e8f23693790
X-WR-CALDESC:
X-WR-RELCALID:5c02bf6b6acbbaa36172391126f6f2ae
X-WR-TIMEZONE:America/New_York
BEGIN:VTIMEZONE
TZID:America/New_York
BEGIN:STANDARD
TZNAME:EST
DTSTART:20211107T020000
TZOFFSETFROM:-0400
TZOFFSETTO:-0500
RDATE:20221106T020000
RDATE:20231105T020000
END:STANDARD
BEGIN:DAYLIGHT
TZNAME:EDT
DTSTART:20220313T020000
TZOFFSETFROM:-0500
TZOFFSETTO:-0400
RDATE:20230312T020000
END:DAYLIGHT
END:VTIMEZONE
BEGIN:VEVENT
UID:d929ceb0-ca74-4399-90b9-705f1b1314b6
DTSTAMP:20260426T040152Z
DESCRIPTION:
DTSTART;TZID=America/New_York:20220506T000000
DTEND;TZID=America/New_York:20220506T235900
LOCATION:
SUMMARY:ep1138
END:VEVENT
END:VCALENDAR
